{
 "currentVersion": 11.1,
 "cimVersion": "3.1.0",
 "serviceDescription": "",
 "mapName": "Layers",
 "description": "",
 "copyrightText": "",
 "supportsDynamicLayers": true,
 "layers": [
  {
   "id": 0,
   "name": "Basis",
   "parentLayerId": -1,
   "defaultVisibility": true,
   "subLayerIds": [
    1,
    2,
    3,
    6,
    7
   ],
   "minScale": 0,
   "maxScale": 0,
   "type": "Group Layer",
   "supportsDynamicLegends": false
  },
  {
   "id": 1,
   "name": "כתובות",
   "parentLayerId": 0,
   "defaultVisibility": true,
   "subLayerIds": null,
   "minScale": 2500,
   "maxScale": 0,
   "type": "Feature Layer",
   "geometryType": "esriGeometryPoint",
   "supportsDynamicLegends": true
  },
  {
   "id": 2,
   "name": "שמות מקומות",
   "parentLayerId": 0,
   "defaultVisibility": true,
   "subLayerIds": null,
   "minScale": 10000,
   "maxScale": 0,
   "type": "Feature Layer",
   "geometryType": "esriGeometryPoint",
   "supportsDynamicLegends": true
  },
  {
   "id": 3,
   "name": "קבוצת שמות רחוב",
   "parentLayerId": 0,
   "defaultVisibility": true,
   "subLayerIds": [
    4,
    5
   ],
   "minScale": 0,
   "maxScale": 0,
   "type": "Group Layer",
   "supportsDynamicLegends": false
  },
  {
   "id": 4,
   "name": "שמות רחובות ראשיים",
   "parentLayerId": 3,
   "defaultVisibility": true,
   "subLayerIds": null,
   "minScale": 50000,
   "maxScale": 15001,
   "type": "Feature Layer",
   "geometryType": "esriGeometryPolyline",
   "supportsDynamicLegends": true
  },
  {
   "id": 5,
   "name": "שמות רחובות",
   "parentLayerId": 3,
   "defaultVisibility": true,
   "subLayerIds": null,
   "minScale": 15000,
   "maxScale": 1000,
   "type": "Feature Layer",
   "geometryType": "esriGeometryPolyline",
   "supportsDynamicLegends": true
  },
  {
   "id": 6,
   "name": "מסילת ברזל",
   "parentLayerId": 0,
   "defaultVisibility": true,
   "subLayerIds": null,
   "minScale": 0,
   "maxScale": 0,
   "type": "Feature Layer",
   "geometryType": "esriGeometryPolyline",
   "supportsDynamicLegends": true
  },
  {
   "id": 7,
   "name": "קבוצת צירי רחובות",
   "parentLayerId": 0,
   "defaultVisibility": true,
   "subLayerIds": [
    8,
    9,
    10,
    11,
    12,
    15,
    16,
    17,
    18,
    19
   ],
   "minScale": 0,
   "maxScale": 0,
   "type": "Group Layer",
   "supportsDynamicLegends": false
  },
  {
   "id": 8,
   "name": "צירי רחובות ראשיים",
   "parentLayerId": 7,
   "defaultVisibility": true,
   "subLayerIds": null,
   "minScale": 0,
   "maxScale": 10000,
   "type": "Feature Layer",
   "geometryType": "esriGeometryPolyline",
   "supportsDynamicLegends": true
  },
  {
   "id": 9,
   "name": "צירי רחוב",
   "parentLayerId": 7,
   "defaultVisibility": true,
   "subLayerIds": null,
   "minScale": 0,
   "maxScale": 30000,
   "type": "Feature Layer",
   "geometryType": "esriGeometryPolyline",
   "supportsDynamicLegends": true
  },
  {
   "id": 10,
   "name": "צירי רחוב 2",
   "parentLayerId": 7,
   "defaultVisibility": true,
   "subLayerIds": null,
   "minScale": 30000,
   "maxScale": 10000,
   "type": "Feature Layer",
   "geometryType": "esriGeometryPolyline",
   "supportsDynamicLegends": true
  },
  {
   "id": 11,
   "name": "מנהרות",
   "parentLayerId": 7,
   "defaultVisibility": true,
   "subLayerIds": null,
   "minScale": 10000,
   "maxScale": 0,
   "type": "Feature Layer",
   "geometryType": "esriGeometryPolyline",
   "supportsDynamicLegends": true
  },
  {
   "id": 12,
   "name": "קבוצת מבנים",
   "parentLayerId": 7,
   "defaultVisibility": true,
   "subLayerIds": [
    13,
    14
   ],
   "minScale": 0,
   "maxScale": 0,
   "type": "Group Layer",
   "supportsDynamicLegends": false
  },
  {
   "id": 13,
   "name": "מבנים",
   "parentLayerId": 12,
   "defaultVisibility": true,
   "subLayerIds": null,
   "minScale": 7500,
   "maxScale": 0,
   "type": "Feature Layer",
   "geometryType": "esriGeometryPolygon",
   "supportsDynamicLegends": true
  },
  {
   "id": 14,
   "name": "הצללת מבנים",
   "parentLayerId": 12,
   "defaultVisibility": true,
   "subLayerIds": null,
   "minScale": 7500,
   "maxScale": 0,
   "type": "Feature Layer",
   "geometryType": "esriGeometryPolygon",
   "supportsDynamicLegends": true
  },
  {
   "id": 15,
   "name": "שטחים ירוקים",
   "parentLayerId": 7,
   "defaultVisibility": true,
   "subLayerIds": null,
   "minScale": 0,
   "maxScale": 0,
   "type": "Feature Layer",
   "geometryType": "esriGeometryPolygon",
   "supportsDynamicLegends": true
  },
  {
   "id": 16,
   "name": "cl_akolt_buff",
   "parentLayerId": 7,
   "defaultVisibility": true,
   "subLayerIds": null,
   "minScale": 10000,
   "maxScale": 0,
   "type": "Feature Layer",
   "geometryType": "esriGeometryPolygon",
   "supportsDynamicLegends": true
  },
  {
   "id": 17,
   "name": "cl_akolt_buftoop",
   "parentLayerId": 7,
   "defaultVisibility": true,
   "subLayerIds": null,
   "minScale": 10000,
   "maxScale": 0,
   "type": "Feature Layer",
   "geometryType": "esriGeometryPolygon",
   "supportsDynamicLegends": true
  },
  {
   "id": 18,
   "name": "cl_akolt_buff",
   "parentLayerId": 7,
   "defaultVisibility": true,
   "subLayerIds": null,
   "minScale": 10000,
   "maxScale": 0,
   "type": "Feature Layer",
   "geometryType": "esriGeometryPolygon",
   "supportsDynamicLegends": true
  },
  {
   "id": 19,
   "name": "שטחים ירוקים",
   "parentLayerId": 7,
   "defaultVisibility": true,
   "subLayerIds": null,
   "minScale": 0,
   "maxScale": 0,
   "type": "Feature Layer",
   "geometryType": "esriGeometryPolygon",
   "supportsDynamicLegends": true
  },
  {
   "id": 20,
   "name": "Reka",
   "parentLayerId": -1,
   "defaultVisibility": true,
   "subLayerIds": [
    21,
    22
   ],
   "minScale": 0,
   "maxScale": 0,
   "type": "Group Layer",
   "supportsDynamicLegends": false
  },
  {
   "id": 21,
   "name": "נחלים",
   "parentLayerId": 20,
   "defaultVisibility": true,
   "subLayerIds": null,
   "minScale": 0,
   "maxScale": 0,
   "type": "Feature Layer",
   "geometryType": "esriGeometryPolygon",
   "supportsDynamicLegends": true
  },
  {
   "id": 22,
   "name": "גבול העיר",
   "parentLayerId": 20,
   "defaultVisibility": true,
   "subLayerIds": null,
   "minScale": 0,
   "maxScale": 0,
   "type": "Feature Layer",
   "geometryType": "esriGeometryPolygon",
   "supportsDynamicLegends": true
  }
 ],
 "tables": [],
 "spatialReference": {
  "wkid": 102100,
  "latestWkid": 3857,
  "xyTolerance": 0.001,
  "zTolerance": 0.001,
  "mTolerance": 0.001,
  "falseX": -20037700,
  "falseY": -30241100,
  "xyUnits": 1.4892314192838538E8,
  "falseZ": -100000,
  "zUnits": 10000,
  "falseM": -100000,
  "mUnits": 10000
 },
 "singleFusedMapCache": true,
 "tileInfo": {
  "rows": 256,
  "cols": 256,
  "dpi": 96,
  "format": "MIXED",
  "compressionQuality": 75,
  "origin": {
   "x": -2.0037508342787E7,
   "y": 2.0037508342787E7
  },
  "spatialReference": {
   "wkid": 102100,
   "latestWkid": 3857,
   "xyTolerance": 0.001,
   "zTolerance": 0.001,
   "mTolerance": 0.001,
   "falseX": -20037700,
   "falseY": -30241100,
   "xyUnits": 1.4892314192838538E8,
   "falseZ": -100000,
   "zUnits": 10000,
   "falseM": -100000,
   "mUnits": 10000
  },
  "lods": [
   {
    "level": 0,
    "resolution": 156543.03392800014,
    "scale": 5.91657527591555E8
   },
   {
    "level": 1,
    "resolution": 78271.51696399994,
    "scale": 2.95828763795777E8
   },
   {
    "level": 2,
    "resolution": 39135.75848200009,
    "scale": 1.47914381897889E8
   },
   {
    "level": 3,
    "resolution": 19567.87924099992,
    "scale": 7.3957190948944E7
   },
   {
    "level": 4,
    "resolution": 9783.93962049996,
    "scale": 3.6978595474472E7
   },
   {
    "level": 5,
    "resolution": 4891.96981024998,
    "scale": 1.8489297737236E7
   },
   {
    "level": 6,
    "resolution": 2445.98490512499,
    "scale": 9244648.868618
   },
   {
    "level": 7,
    "resolution": 1222.992452562495,
    "scale": 4622324.434309
   },
   {
    "level": 8,
    "resolution": 611.4962262813797,
    "scale": 2311162.217155
   },
   {
    "level": 9,
    "resolution": 305.74811314055756,
    "scale": 1155581.108577
   },
   {
    "level": 10,
    "resolution": 152.87405657041106,
    "scale": 577790.554289
   },
   {
    "level": 11,
    "resolution": 76.43702828507324,
    "scale": 288895.277144
   },
   {
    "level": 12,
    "resolution": 38.21851414253662,
    "scale": 144447.638572
   },
   {
    "level": 13,
    "resolution": 19.10925707126831,
    "scale": 72223.819286
   },
   {
    "level": 14,
    "resolution": 9.554628535634155,
    "scale": 36111.909643
   },
   {
    "level": 15,
    "resolution": 4.77731426794937,
    "scale": 18055.954822
   },
   {
    "level": 16,
    "resolution": 2.388657133974685,
    "scale": 9027.977411
   },
   {
    "level": 17,
    "resolution": 1.1943285668550503,
    "scale": 4513.988705
   },
   {
    "level": 18,
    "resolution": 0.5971642835598172,
    "scale": 2256.994353
   },
   {
    "level": 19,
    "resolution": 0.29858214164761665,
    "scale": 1128.497176
   },
   {
    "level": 20,
    "resolution": 0.14929107082380833,
    "scale": 564.248588
   },
   {
    "level": 21,
    "resolution": 0.07464553541190416,
    "scale": 282.124294
   },
   {
    "level": 22,
    "resolution": 0.03732276770595208,
    "scale": 141.062147
   },
   {
    "level": 23,
    "resolution": 0.01866138385297604,
    "scale": 70.5310735
   }
  ]
 },
 "storageInfo": {
  "storageFormat": "esriMapCacheStorageModeCompactV2",
  "packetSize": 128
 },
 "initialExtent": {
  "xmin": 3857152.4606397916,
  "ymin": 3764553.6960115517,
  "xmax": 3885240.867019236,
  "ymax": 3785043.449296768,
  "spatialReference": {
   "wkid": 102100,
   "latestWkid": 3857,
   "xyTolerance": 0.001,
   "zTolerance": 0.001,
   "mTolerance": 0.001,
   "falseX": -20037700,
   "falseY": -30241100,
   "xyUnits": 1.4892314192838538E8,
   "falseZ": -100000,
   "zUnits": 10000,
   "falseM": -100000,
   "mUnits": 10000
  }
 },
 "fullExtent": {
  "xmin": 3859807.881819417,
  "ymin": 3766052.919559636,
  "xmax": 3882430.196302299,
  "ymax": 3783447.6241997816,
  "spatialReference": {
   "wkid": 102100,
   "latestWkid": 3857,
   "xyTolerance": 0.001,
   "zTolerance": 0.001,
   "mTolerance": 0.001,
   "falseX": -20037700,
   "falseY": -30241100,
   "xyUnits": 1.4892314192838538E8,
   "falseZ": -100000,
   "zUnits": 10000,
   "falseM": -100000,
   "mUnits": 10000
  }
 },
 "datesInUnknownTimezone": false,
 "minScale": 144447.638572,
 "maxScale": 4513.988705,
 "units": "esriMeters",
 "supportedImageFormatTypes": "PNG32,PNG24,PNG,JPG,DIB,TIFF,EMF,PS,PDF,GIF,SVG,SVGZ,BMP",
 "documentInfo": {
  "Title": "all_layers_gdb_work2",
  "Author": "",
  "Comments": "",
  "Subject": "",
  "Category": "",
  "Version": "3.1.0",
  "AntialiasingMode": "Normal",
  "TextAntialiasingMode": "Force",
  "Keywords": "IView2MapHebWM"
 },
 "capabilities": "Map,Query,Data",
 "supportedQueryFormats": "JSON, geoJSON, PBF",
 "exportTilesAllowed": false,
 "referenceScale": 0.0,
 "datumTransformations": [
  {
   "geoTransforms": [
    {
     "wkid": 108001,
     "latestWkid": 1241,
     "transformForward": true,
     "name": "NAD_1927_To_NAD_1983_NADCON"
    }
   ]
  },
  {
   "geoTransforms": [
    {
     "wkid": 108001,
     "latestWkid": 1241,
     "transformForward": false,
     "name": "NAD_1927_To_NAD_1983_NADCON"
    }
   ]
  },
  {
   "geoTransforms": [
    {
     "wkt": "GEOGTRAN[\"Oren_WGS_TO_ITM\",GEOGCS[\"GCS_WGS_1984\",DATUM[\"D_WGS_1984\",SPHEROID[\"WGS_1984\",6378137.0,298.257223563]],PRIMEM[\"Greenwich\",0.0],UNIT[\"Degree\",0.0174532925199433]],GEOGCS[\"GCS_Israel\",DATUM[\"D_Israel\",SPHEROID[\"GRS_1980\",6378137.0,298.257222101]],PRIMEM[\"Greenwich\",0.0],UNIT[\"Degree\",0.0174532925199433]],METHOD[\"Coordinate_Frame\"],PARAMETER[\"X_Axis_Translation\",-24.0024],PARAMETER[\"Y_Axis_Translation\",-17.1032],PARAMETER[\"Z_Axis_Translation\",-17.8444],PARAMETER[\"X_Axis_Rotation\",-0.33009],PARAMETER[\"Y_Axis_Rotation\",-1.85269],PARAMETER[\"Z_Axis_Rotation\",1.66969],PARAMETER[\"Scale_Difference\",5.4248]]",
     "transformForward": true,
     "name": "Oren_WGS_TO_ITM"
    }
   ]
  },
  {
   "geoTransforms": [
    {
     "wkt": "GEOGTRAN[\"Oren_WGS_TO_ITM\",GEOGCS[\"GCS_WGS_1984\",DATUM[\"D_WGS_1984\",SPHEROID[\"WGS_1984\",6378137.0,298.257223563]],PRIMEM[\"Greenwich\",0.0],UNIT[\"Degree\",0.0174532925199433]],GEOGCS[\"GCS_Israel\",DATUM[\"D_Israel\",SPHEROID[\"GRS_1980\",6378137.0,298.257222101]],PRIMEM[\"Greenwich\",0.0],UNIT[\"Degree\",0.0174532925199433]],METHOD[\"Coordinate_Frame\"],PARAMETER[\"X_Axis_Translation\",-24.0024],PARAMETER[\"Y_Axis_Translation\",-17.1032],PARAMETER[\"Z_Axis_Translation\",-17.8444],PARAMETER[\"X_Axis_Rotation\",-0.33009],PARAMETER[\"Y_Axis_Rotation\",-1.85269],PARAMETER[\"Z_Axis_Rotation\",1.66969],PARAMETER[\"Scale_Difference\",5.4248]]",
     "transformForward": false,
     "name": "Oren_WGS_TO_ITM"
    }
   ]
  }
 ],
 "supportsDatumTransformation": true,
 "archivingInfo": {
  "supportsHistoricMoment": false
 },
 "supportsClipping": true,
 "supportsSpatialFilter": true,
 "supportsTimeRelation": true,
 "supportsQueryDataElements": true,
 "mapUnits": {
  "uwkid": 9001
 },
 "maxRecordCount": 2000,
 "maxImageHeight": 4096,
 "maxImageWidth": 4096,
 "supportedExtensions": "",
 "resampling": false
}
